BEGIN:VCALENDAR
VERSION:2.0
PRODID:-//Action Science Jargeau - ECPv6.15.17.1//NONSGML v1.0//EN
CALSCALE:GREGORIAN
METHOD:PUBLISH
X-ORIGINAL-URL:https://actionsciencejargeau.fr
X-WR-CALDESC:Évènements pour Action Science Jargeau
REFRESH-INTERVAL;VALUE=DURATION:PT1H
X-Robots-Tag:noindex
X-PUBLISHED-TTL:PT1H
BEGIN:VTIMEZONE
TZID:Europe/Paris
BEGIN:DAYLIGHT
TZOFFSETFROM:+0100
TZOFFSETTO:+0200
TZNAME:CEST
DTSTART:20250330T010000
END:DAYLIGHT
BEGIN:STANDARD
TZOFFSETFROM:+0200
TZOFFSETTO:+0100
TZNAME:CET
DTSTART:20251026T010000
END:STANDARD
BEGIN:DAYLIGHT
TZOFFSETFROM:+0100
TZOFFSETTO:+0200
TZNAME:CEST
DTSTART:20260329T010000
END:DAYLIGHT
BEGIN:STANDARD
TZOFFSETFROM:+0200
TZOFFSETTO:+0100
TZNAME:CET
DTSTART:20261025T010000
END:STANDARD
BEGIN:DAYLIGHT
TZOFFSETFROM:+0100
TZOFFSETTO:+0200
TZNAME:CEST
DTSTART:20270328T010000
END:DAYLIGHT
BEGIN:STANDARD
TZOFFSETFROM:+0200
TZOFFSETTO:+0100
TZNAME:CET
DTSTART:20271031T010000
END:STANDARD
END:VTIMEZONE
BEGIN:VEVENT
DTSTART;TZID=Europe/Paris:20260509T100000
DTEND;TZID=Europe/Paris:20260509T170000
DTSTAMP:20260424T205610
CREATED:20260423T203934Z
LAST-MODIFIED:20260423T210517Z
UID:906-1778320800-1778346000@actionsciencejargeau.fr
SUMMARY:ASJ junior
DESCRIPTION:Au programme : \n\nConception 3D et impression\nPréparation de la fête de la science\, le thème est « Saveurs Savantes ». Miam Miam
URL:https://actionsciencejargeau.fr/index.php/event/asj-junior/
LOCATION:Salles Berry à Jargeau\, 1 rue du Civet\, Jargeau\, 45150\, France
CATEGORIES:ASJ junior
END:VEVENT
END:VCALENDAR