BEGIN:VCALENDAR
VERSION:2.0
PRODID:-//Action Science Jargeau - ECPv6.15.17.1//NONSGML v1.0//EN
CALSCALE:GREGORIAN
METHOD:PUBLISH
X-ORIGINAL-URL:https://actionsciencejargeau.fr
X-WR-CALDESC:Évènements pour Action Science Jargeau
REFRESH-INTERVAL;VALUE=DURATION:PT1H
X-Robots-Tag:noindex
X-PUBLISHED-TTL:PT1H
BEGIN:VTIMEZONE
TZID:Europe/Paris
BEGIN:DAYLIGHT
TZOFFSETFROM:+0100
TZOFFSETTO:+0200
TZNAME:CEST
DTSTART:20230326T010000
END:DAYLIGHT
BEGIN:STANDARD
TZOFFSETFROM:+0200
TZOFFSETTO:+0100
TZNAME:CET
DTSTART:20231029T010000
END:STANDARD
BEGIN:DAYLIGHT
TZOFFSETFROM:+0100
TZOFFSETTO:+0200
TZNAME:CEST
DTSTART:20240331T010000
END:DAYLIGHT
BEGIN:STANDARD
TZOFFSETFROM:+0200
TZOFFSETTO:+0100
TZNAME:CET
DTSTART:20241027T010000
END:STANDARD
BEGIN:DAYLIGHT
TZOFFSETFROM:+0100
TZOFFSETTO:+0200
TZNAME:CEST
DTSTART:20250330T010000
END:DAYLIGHT
BEGIN:STANDARD
TZOFFSETFROM:+0200
TZOFFSETTO:+0100
TZNAME:CET
DTSTART:20251026T010000
END:STANDARD
BEGIN:DAYLIGHT
TZOFFSETFROM:+0100
TZOFFSETTO:+0200
TZNAME:CEST
DTSTART:20260329T010000
END:DAYLIGHT
BEGIN:STANDARD
TZOFFSETFROM:+0200
TZOFFSETTO:+0100
TZNAME:CET
DTSTART:20261025T010000
END:STANDARD
END:VTIMEZONE
BEGIN:VEVENT
DTSTART;TZID=Europe/Paris:20250412T203000
DTEND;TZID=Europe/Paris:20250412T223000
DTSTAMP:20260424T180707
CREATED:20250314T175649Z
LAST-MODIFIED:20250314T182702Z
UID:776-1744489800-1744497000@actionsciencejargeau.fr
SUMMARY:Conférence sur la domotique
DESCRIPTION:Le 12 avril 2025 à 20h30 salle Berry 1 rue du Civet à Jargeau. \nSi ça vous intéresse\, venez discuter avec Sébastien qui fera une\ndémonstration réalisable par tous.
URL:https://actionsciencejargeau.fr/index.php/event/conference-sur-la-domotique/
END:VEVENT
BEGIN:VEVENT
DTSTART;TZID=Europe/Paris:20250329T080000
DTEND;TZID=Europe/Paris:20250329T170000
DTSTAMP:20260424T180707
CREATED:20241212T221653Z
LAST-MODIFIED:20241212T221653Z
UID:764-1743235200-1743267600@actionsciencejargeau.fr
SUMMARY:journée Juniors
DESCRIPTION:
URL:https://actionsciencejargeau.fr/index.php/event/journee-juniors-4/
END:VEVENT
BEGIN:VEVENT
DTSTART;TZID=Europe/Paris:20250301T100000
DTEND;TZID=Europe/Paris:20250301T170000
DTSTAMP:20260424T180707
CREATED:20241212T220813Z
LAST-MODIFIED:20241212T221316Z
UID:757-1740823200-1740848400@actionsciencejargeau.fr
SUMMARY:sortie adhérents
DESCRIPTION:Sortie au pôle des étoiles à Nançay
URL:https://actionsciencejargeau.fr/index.php/event/1er-mars-2025/
END:VEVENT
BEGIN:VEVENT
DTSTART;TZID=Europe/Paris:20250111T080000
DTEND;TZID=Europe/Paris:20250111T170000
DTSTAMP:20260424T180707
CREATED:20240817T132740Z
LAST-MODIFIED:20241212T220639Z
UID:738-1736582400-1736614800@actionsciencejargeau.fr
SUMMARY:Journée Juniors
DESCRIPTION:Réservé adhérents Juniors
URL:https://actionsciencejargeau.fr/index.php/event/journee-juniors-3/
LOCATION:Salles Berry à Jargeau\, 1 rue du Civet\, Jargeau\, 45150\, France
END:VEVENT
BEGIN:VEVENT
DTSTART;TZID=Europe/Paris:20241214T080000
DTEND;TZID=Europe/Paris:20241214T170000
DTSTAMP:20260424T180707
CREATED:20240817T132349Z
LAST-MODIFIED:20240817T132349Z
UID:735-1734163200-1734195600@actionsciencejargeau.fr
SUMMARY:Journée Juniors
DESCRIPTION:Réservé adhérents Juniors
URL:https://actionsciencejargeau.fr/index.php/event/journee-juniors-2/
LOCATION:Salles Berry à Jargeau\, 1 rue du Civet\, Jargeau\, 45150\, France
END:VEVENT
BEGIN:VEVENT
DTSTART;TZID=Europe/Paris:20241212T080000
DTEND;TZID=Europe/Paris:20241212T170000
DTSTAMP:20260424T180707
CREATED:20241212T220849Z
LAST-MODIFIED:20241212T220849Z
UID:759-1733990400-1734022800@actionsciencejargeau.fr
SUMMARY:29 mars 2025
DESCRIPTION:Réservé adhérents Juniors
URL:https://actionsciencejargeau.fr/index.php/event/29-mars-2025/
END:VEVENT
BEGIN:VEVENT
DTSTART;TZID=Europe/Paris:20241116T100000
DTEND;TZID=Europe/Paris:20241116T170000
DTSTAMP:20260424T180707
CREATED:20240817T132119Z
LAST-MODIFIED:20240817T132119Z
UID:733-1731751200-1731776400@actionsciencejargeau.fr
SUMMARY:Journée Juniors
DESCRIPTION:Réservé adhérents Juniors
URL:https://actionsciencejargeau.fr/index.php/event/journee-juniors/
LOCATION:Salles Berry à Jargeau\, 1 rue du Civet\, Jargeau\, 45150\, France
END:VEVENT
BEGIN:VEVENT
DTSTART;VALUE=DATE:20241012
DTEND;VALUE=DATE:20241013
DTSTAMP:20260424T180707
CREATED:20240814T074850Z
LAST-MODIFIED:20240817T132524Z
UID:703-1728691200-1728777599@actionsciencejargeau.fr
SUMMARY:Hameau des Sciences
DESCRIPTION:animation gratuite pour tout public
URL:https://actionsciencejargeau.fr/index.php/event/hameau-des-sciences/
LOCATION:Halle de Jargeau
END:VEVENT
BEGIN:VEVENT
DTSTART;VALUE=DATE:20241005
DTEND;VALUE=DATE:20241006
DTSTAMP:20260424T180707
CREATED:20240814T074750Z
LAST-MODIFIED:20240814T074750Z
UID:699-1728086400-1728172799@actionsciencejargeau.fr
SUMMARY:Fête de la Science
DESCRIPTION:
URL:https://actionsciencejargeau.fr/index.php/event/fete-de-la-science/
LOCATION:CNRS Orléans
END:VEVENT
BEGIN:VEVENT
DTSTART;TZID=Europe/Paris:20240921T100000
DTEND;TZID=Europe/Paris:20240921T170000
DTSTAMP:20260424T180707
CREATED:20240817T131818Z
LAST-MODIFIED:20240817T131818Z
UID:729-1726912800-1726938000@actionsciencejargeau.fr
SUMMARY:Rencontre Juniors
DESCRIPTION:Réservé adhérents Juniors
URL:https://actionsciencejargeau.fr/index.php/event/rencontre-juniors/
LOCATION:Salles Berry à Jargeau\, 1 rue du Civet\, Jargeau\, 45150\, France
END:VEVENT
BEGIN:VEVENT
DTSTART;VALUE=DATE:20240907
DTEND;VALUE=DATE:20240908
DTSTAMP:20260424T180707
CREATED:20240814T074646Z
LAST-MODIFIED:20240814T074646Z
UID:696-1725667200-1725753599@actionsciencejargeau.fr
SUMMARY:Forum des associations
DESCRIPTION:
URL:https://actionsciencejargeau.fr/index.php/event/forum-des-associations/
LOCATION:Saint denis de l’hotel-Jargeau
END:VEVENT
BEGIN:VEVENT
DTSTART;TZID=Europe/Paris:20240804T140000
DTEND;TZID=Europe/Paris:20240804T180000
DTSTAMP:20260424T180707
CREATED:20240801T221158Z
LAST-MODIFIED:20240801T221158Z
UID:460-1722780000-1722794400@actionsciencejargeau.fr
SUMMARY:Activités pour enfants à Jargeau Plage
DESCRIPTION:
URL:https://actionsciencejargeau.fr/index.php/event/activites-pour-enfants-a-jargeau-plage/
LOCATION:Jargeau Plage
END:VEVENT
END:VCALENDAR