BEGIN:VCALENDAR
VERSION:2.0
PRODID:-//Action Science Jargeau - ECPv6.15.17.1//NONSGML v1.0//EN
CALSCALE:GREGORIAN
METHOD:PUBLISH
X-WR-CALNAME:Action Science Jargeau
X-ORIGINAL-URL:https://actionsciencejargeau.fr
X-WR-CALDESC:Évènements pour Action Science Jargeau
REFRESH-INTERVAL;VALUE=DURATION:PT1H
X-Robots-Tag:noindex
X-PUBLISHED-TTL:PT1H
BEGIN:VTIMEZONE
TZID:Europe/Paris
BEGIN:DAYLIGHT
TZOFFSETFROM:+0100
TZOFFSETTO:+0200
TZNAME:CEST
DTSTART:20250330T010000
END:DAYLIGHT
BEGIN:STANDARD
TZOFFSETFROM:+0200
TZOFFSETTO:+0100
TZNAME:CET
DTSTART:20251026T010000
END:STANDARD
BEGIN:DAYLIGHT
TZOFFSETFROM:+0100
TZOFFSETTO:+0200
TZNAME:CEST
DTSTART:20260329T010000
END:DAYLIGHT
BEGIN:STANDARD
TZOFFSETFROM:+0200
TZOFFSETTO:+0100
TZNAME:CET
DTSTART:20261025T010000
END:STANDARD
BEGIN:DAYLIGHT
TZOFFSETFROM:+0100
TZOFFSETTO:+0200
TZNAME:CEST
DTSTART:20270328T010000
END:DAYLIGHT
BEGIN:STANDARD
TZOFFSETFROM:+0200
TZOFFSETTO:+0100
TZNAME:CET
DTSTART:20271031T010000
END:STANDARD
END:VTIMEZONE
BEGIN:VEVENT
DTSTART;TZID=Europe/Paris:20260509T100000
DTEND;TZID=Europe/Paris:20260509T170000
DTSTAMP:20260424T162319
CREATED:20260423T203934Z
LAST-MODIFIED:20260423T210517Z
UID:906-1778320800-1778346000@actionsciencejargeau.fr
SUMMARY:ASJ junior
DESCRIPTION:Au programme : \n\nConception 3D et impression\nPréparation de la fête de la science\, le thème est « Saveurs Savantes ». Miam Miam
URL:https://actionsciencejargeau.fr/index.php/event/asj-junior/
LOCATION:Salles Berry à Jargeau\, 1 rue du Civet\, Jargeau\, 45150\, France
CATEGORIES:ASJ junior
END:VEVENT
BEGIN:VEVENT
DTSTART;TZID=Europe/Paris:20260509T203000
DTEND;TZID=Europe/Paris:20260509T223000
DTSTAMP:20260424T162319
CREATED:20260423T210002Z
LAST-MODIFIED:20260423T210550Z
UID:920-1778358600-1778365800@actionsciencejargeau.fr
SUMMARY:L'énergie solaire et moi
DESCRIPTION:À l’occasion de l’une des soirées organisées par ASJ\, Philippe Becerril propose une conférence accessible à tous consacrée aux panneaux photovoltaïques. À travers une présentation claire et concrète\, il aborde leur fonctionnement\, leurs usages et les conditions d’installation\, en répondant aux questions que chacun peut se poser : est-ce adapté à mon habitation ? Quel coût ? Quelle rentabilité ? \nCette intervention a pour objectif de démystifier l’énergie solaire et de montrer qu’elle peut constituer une solution réaliste et pertinente pour de nombreux foyers. Un moment d’échange pour mieux comprendre les enjeux de la transition énergétique et envisager des solutions à l’échelle individuelle.
URL:https://actionsciencejargeau.fr/index.php/event/lenergie-solaire-et-moi/
CATEGORIES:Les conférences d'ASJ
END:VEVENT
BEGIN:VEVENT
DTSTART;TZID=Europe/Paris:20260518T183000
DTEND;TZID=Europe/Paris:20260518T220000
DTSTAMP:20260424T162319
CREATED:20260423T203141Z
LAST-MODIFIED:20260423T213223Z
UID:894-1779129000-1779141600@actionsciencejargeau.fr
SUMMARY:Slice of Science 2026 - jour 1
DESCRIPTION:« La famille des matériaux » \npar Marie-Laure Bouchetou \nUniversité d’Orléans
URL:https://actionsciencejargeau.fr/index.php/event/slice-of-science-2026/
CATEGORIES:Slice of Science
ORGANIZER;CN="Action Science Jargeau":MAILTO:actionsciencejargeau@gmail.com
END:VEVENT
BEGIN:VEVENT
DTSTART;TZID=Europe/Paris:20260519T183000
DTEND;TZID=Europe/Paris:20260519T223000
DTSTAMP:20260424T162319
CREATED:20260423T203627Z
LAST-MODIFIED:20260423T210453Z
UID:900-1779215400-1779229800@actionsciencejargeau.fr
SUMMARY:Slice of Science 2026 - jour 2
DESCRIPTION:“Le monde des biomatériaux: L’interdisciplinarité au service de la santé” \npar Varvara Gribova\, Université d’Orléans
URL:https://actionsciencejargeau.fr/index.php/event/slice-of-science-jour-2/
CATEGORIES:Slice of Science
END:VEVENT
BEGIN:VEVENT
DTSTART;TZID=Europe/Paris:20260520T183000
DTEND;TZID=Europe/Paris:20260520T223000
DTSTAMP:20260424T162319
CREATED:20260423T203725Z
LAST-MODIFIED:20260423T210437Z
UID:902-1779301800-1779316200@actionsciencejargeau.fr
SUMMARY:Slice of Science 2026 - jour 3
DESCRIPTION:« Les pertes de La Loire à Jargeau” \npar Nevila Jozja\, Université d’Orléans
URL:https://actionsciencejargeau.fr/index.php/event/slice-of-science-jour-3/
CATEGORIES:Slice of Science
END:VEVENT
BEGIN:VEVENT
DTSTART;TZID=Europe/Paris:20260620T100000
DTEND;TZID=Europe/Paris:20260620T170000
DTSTAMP:20260424T162319
CREATED:20260423T205419Z
LAST-MODIFIED:20260423T212312Z
UID:918-1781949600-1781974800@actionsciencejargeau.fr
SUMMARY:ASJ - junior
DESCRIPTION:programme à définir
URL:https://actionsciencejargeau.fr/index.php/event/asj-junior-2/
LOCATION:Salles Berry à Jargeau\, 1 rue du Civet\, Jargeau\, 45150\, France
CATEGORIES:ASJ junior
END:VEVENT
END:VCALENDAR