BEGIN:VCALENDAR
VERSION:2.0
PRODID:-//Action Science Jargeau - ECPv6.15.17.1//NONSGML v1.0//EN
CALSCALE:GREGORIAN
METHOD:PUBLISH
X-WR-CALNAME:Action Science Jargeau
X-ORIGINAL-URL:https://actionsciencejargeau.fr
X-WR-CALDESC:Évènements pour Action Science Jargeau
REFRESH-INTERVAL;VALUE=DURATION:PT1H
X-Robots-Tag:noindex
X-PUBLISHED-TTL:PT1H
BEGIN:VTIMEZONE
TZID:Europe/Paris
BEGIN:DAYLIGHT
TZOFFSETFROM:+0100
TZOFFSETTO:+0200
TZNAME:CEST
DTSTART:20240331T010000
END:DAYLIGHT
BEGIN:STANDARD
TZOFFSETFROM:+0200
TZOFFSETTO:+0100
TZNAME:CET
DTSTART:20241027T010000
END:STANDARD
BEGIN:DAYLIGHT
TZOFFSETFROM:+0100
TZOFFSETTO:+0200
TZNAME:CEST
DTSTART:20250330T010000
END:DAYLIGHT
BEGIN:STANDARD
TZOFFSETFROM:+0200
TZOFFSETTO:+0100
TZNAME:CET
DTSTART:20251026T010000
END:STANDARD
BEGIN:DAYLIGHT
TZOFFSETFROM:+0100
TZOFFSETTO:+0200
TZNAME:CEST
DTSTART:20260329T010000
END:DAYLIGHT
BEGIN:STANDARD
TZOFFSETFROM:+0200
TZOFFSETTO:+0100
TZNAME:CET
DTSTART:20261025T010000
END:STANDARD
END:VTIMEZONE
BEGIN:VEVENT
DTSTART;TZID=Europe/Paris:20250111T080000
DTEND;TZID=Europe/Paris:20250111T170000
DTSTAMP:20260425T163739
CREATED:20240817T132740Z
LAST-MODIFIED:20241212T220639Z
UID:738-1736582400-1736614800@actionsciencejargeau.fr
SUMMARY:Journée Juniors
DESCRIPTION:Réservé adhérents Juniors
URL:https://actionsciencejargeau.fr/index.php/event/journee-juniors-3/
LOCATION:Salles Berry à Jargeau\, 1 rue du Civet\, Jargeau\, 45150\, France
END:VEVENT
END:VCALENDAR